BEGIN:VCALENDAR
VERSION:2.0
PRODID:-//FiddleHead Nursery - ECPv5.1.2.1//NONSGML v1.0//EN
CALSCALE:GREGORIAN
METHOD:PUBLISH
X-WR-CALNAME:FiddleHead Nursery
X-ORIGINAL-URL:http://fiddleheadnursery.ca
X-WR-CALDESC:Events for FiddleHead Nursery
BEGIN:VTIMEZONE
TZID:UTC
BEGIN:STANDARD
TZOFFSETFROM:+0000
TZOFFSETTO:+0000
TZNAME:UTC
DTSTART:20180101T000000
END:STANDARD
END:VTIMEZONE
BEGIN:VEVENT
DTSTART;VALUE=DATE:20180512
DTEND;VALUE=DATE:20180514
DTSTAMP:20260420T050840
CREATED:20171214T025206Z
LAST-MODIFIED:20180109T031350Z
UID:963-1526083200-1526255999@fiddleheadnursery.ca
SUMMARY:Opening Weekend Harvest Party!
DESCRIPTION:We’re opening our 2018 Season\, as we always do\, at the height of the harvest season for perennial shoot vegetables\, and we’re finally producing enough to sell some of the excess!  For our opening weekend\, we’ll be selling (and giving out samples of) some of our most productive perennial vegetables\, including: \nSea Kale\nHosta\nDaylily\nSolomon’s Seal\nEgyptian Walking Onion\nSweet Fennel\nCaucasian Spinach\nSorrel\nUdo\nMitsuba\nAnd whatever else is popping out of the ground! \nWe’ll also be hosting free tasting tours of the gardens: Come for the 2018 Opening Weekend! \nSaturday & Sunday\, May 12-13\, 10am-5pm. \n
URL:http://fiddleheadnursery.ca/event/opening-weekend-food-fest/
LOCATION:Fiddlehead Nursery\, 235599 Grey Rd. 13   RR#1\, Kimberley\, ON\, N0C 1G0\, Canada
ATTACH;FMTTYPE=image/jpeg:http://fiddleheadnursery.ca/wp-content/uploads/2016/07/Daylily2.jpg
END:VEVENT
END:VCALENDAR