BEGIN:VCALENDAR
VERSION:2.0
PRODID:-//FiddleHead Nursery - ECPv5.1.2.1//NONSGML v1.0//EN
CALSCALE:GREGORIAN
METHOD:PUBLISH
X-WR-CALNAME:FiddleHead Nursery
X-ORIGINAL-URL:http://fiddleheadnursery.ca
X-WR-CALDESC:Events for FiddleHead Nursery
BEGIN:VTIMEZONE
TZID:UTC
BEGIN:STANDARD
TZOFFSETFROM:+0000
TZOFFSETTO:+0000
TZNAME:UTC
DTSTART:20180101T000000
END:STANDARD
END:VTIMEZONE
BEGIN:VEVENT
DTSTART;TZID=UTC:20180520T110000
DTEND;TZID=UTC:20180520T150000
DTSTAMP:20260418T070740
CREATED:20180108T025333Z
LAST-MODIFIED:20180108T025333Z
UID:986-1526814000-1526828400@fiddleheadnursery.ca
SUMMARY:Workshop: Designing an Edible Landscape
DESCRIPTION:Learn how to incorporate a wide variety of fruit and nut trees\, berry bushes\, perennial vegetables and salad greens\, edible flowers\, and more\, into a beautiful\, low-maintenance organic garden using applied ecology and permaculture design.  Includes a detailed tour (and tasting!) of our demonstration gardens. \nPlease bring something to share for a potluck lunch. \nAlso bring a notepad\, and weather-appropriate clothing. \n
URL:http://fiddleheadnursery.ca/event/workshop-designing-an-edible-landscape-6/
LOCATION:Fiddlehead Nursery\, 235599 Grey Rd. 13   RR#1\, Kimberley\, ON\, N0C 1G0\, Canada
ATTACH;FMTTYPE=image/jpeg:http://fiddleheadnursery.ca/wp-content/uploads/2017/12/fullsizeoutput_6e2-scaled.jpeg
END:VEVENT
END:VCALENDAR