BEGIN:VCALENDAR
VERSION:2.0
PRODID:-//FiddleHead Nursery - ECPv5.1.2.1//NONSGML v1.0//EN
CALSCALE:GREGORIAN
METHOD:PUBLISH
X-WR-CALNAME:FiddleHead Nursery
X-ORIGINAL-URL:http://fiddleheadnursery.ca
X-WR-CALDESC:Events for FiddleHead Nursery
BEGIN:VTIMEZONE
TZID:UTC
BEGIN:STANDARD
TZOFFSETFROM:+0000
TZOFFSETTO:+0000
TZNAME:UTC
DTSTART:20240101T000000
END:STANDARD
END:VTIMEZONE
BEGIN:VEVENT
DTSTART;TZID=UTC:20240817T140000
DTEND;TZID=UTC:20240817T170000
DTSTAMP:20260419T231752
CREATED:20240131T012951Z
LAST-MODIFIED:20240131T013837Z
UID:1269-1723903200-1723914000@fiddleheadnursery.ca
SUMMARY:Workshop: Creating a Food Forest
DESCRIPTION:Creating a food forest is all about putting the right plant in the right place.  In this workshop we’ll show you how to incorporate fruit and nut trees\, berry bushes\, perennial vegetables and salad greens\, tubers\, vines and edible flowers into a low-maintenance\, self-fertile edible landscape using applied ecology and permaculture design.  Workshops include an in-depth discussion of garden design theory and a detailed tour (and tasting!) of our demonstration gardens.  We’ll also harvest\, prepare and eat something from the gardens.  Bring a notepad and weather-appropriate clothing; workshops take place rain or shine\, and are entirely outdoors. Call or e-mail us to sign up. Workshops are $40/person. \n
URL:http://fiddleheadnursery.ca/event/creating-a-food-forest/
LOCATION:Fiddlehead Nursery\, 235599 Grey Rd. 13   RR#1\, Kimberley\, ON\, N0C 1G0\, Canada
ATTACH;FMTTYPE=image/jpeg:http://fiddleheadnursery.ca/wp-content/uploads/2016/02/salad3.jpg
END:VEVENT
END:VCALENDAR