BEGIN:VCALENDAR
VERSION:2.0
PRODID:-//FiddleHead Nursery - ECPv5.1.2.1//NONSGML v1.0//EN
CALSCALE:GREGORIAN
METHOD:PUBLISH
X-WR-CALNAME:FiddleHead Nursery
X-ORIGINAL-URL:http://fiddleheadnursery.ca
X-WR-CALDESC:Events for FiddleHead Nursery
BEGIN:VTIMEZONE
TZID:UTC
BEGIN:STANDARD
TZOFFSETFROM:+0000
TZOFFSETTO:+0000
TZNAME:UTC
DTSTART:20240101T000000
END:STANDARD
END:VTIMEZONE
BEGIN:VEVENT
DTSTART;TZID=UTC:20240825T140000
DTEND;TZID=UTC:20240825T170000
DTSTAMP:20260419T232121
CREATED:20240131T013724Z
LAST-MODIFIED:20240131T013738Z
UID:1273-1724594400-1724605200@fiddleheadnursery.ca
SUMMARY:Plant Propagation for the Hungry Gardener
DESCRIPTION:We’ll show you how we do it: how to start a wide variety of edible perennials from seed\, division\, as well as by root\, softwood and hardwood cuttings.  The only way to plant an edible landscape without spending a lot of money is to learn how to propagate your own plants.  Learn how to do so with a hands-on workshop detailing a wide variety of tips and techniques\, and go home with an edible perennial you’ve divided yourself! \nBring weather-appropriate clothing and a notebook.  $50/person. \n
URL:http://fiddleheadnursery.ca/event/propagation-for-the-hungry-gardener/
LOCATION:Fiddlehead Nursery\, 235599 Grey Rd. 13   RR#1\, Kimberley\, ON\, N0C 1G0\, Canada
ATTACH;FMTTYPE=image/jpeg:http://fiddleheadnursery.ca/wp-content/uploads/2016/02/sandbed.jpg
END:VEVENT
END:VCALENDAR